BEGIN:VCALENDAR
VERSION:2.0
PRODID:-//Arkabia//ES
CALSCALE:GREGORIAN
METHOD:PUBLISH
BEGIN:VEVENT
UID:9c92bf9579ac64e3a03be19f37167dc0@arkabia.eus
DTSTAMP:20260419T212009
DTSTART;VALUE=DATE:20260611
DTEND;VALUE=DATE:20261212
SUMMARY:Ciclo de igualdad
LOCATION:Arkabia
URL:https://arkabia.eus/?p=617
END:VEVENT
END:VCALENDAR
