BEGIN:VCALENDAR
VERSION:2.0
PRODID:-//Arkabia//ES
CALSCALE:GREGORIAN
METHOD:PUBLISH
BEGIN:VEVENT
UID:79c9230612ee84195e9cdba2a1873392@arkabia.eus
DTSTAMP:20260420T160958
DTSTART;TZID=Europe/Madrid:20260424T193000
DTEND;TZID=Europe/Madrid:20260424T203000
SUMMARY:Sabes que las flores de plástico nunca han vivido\, ¿Verdad?
LOCATION:Arkabia
URL:https://arkabia.eus/?p=678
END:VEVENT
END:VCALENDAR
