BEGIN:VCALENDAR
VERSION:2.0
PRODID:-//Arkabia//ES
CALSCALE:GREGORIAN
METHOD:PUBLISH
BEGIN:VEVENT
UID:0e11efe844d73c4244f2b9b29d0664ff@arkabia.eus
DTSTAMP:20260424T191918
DTSTART;VALUE=DATE:20260608
DTEND;VALUE=DATE:20260613
SUMMARY:Ciclo de musicales
LOCATION:Arkabia
URL:https://arkabia.eus/?p=738
END:VEVENT
END:VCALENDAR
