BEGIN:VCALENDAR
VERSION:2.0
PRODID:-//Arkabia//ES
CALSCALE:GREGORIAN
METHOD:PUBLISH
BEGIN:VEVENT
UID:909a902773c37c71a8b14869bd4891c9@arkabia.eus
DTSTAMP:20260424T191845
DTSTART;TZID=Europe/Madrid:20260530T183000
DTEND;TZID=Europe/Madrid:20260530T193000
SUMMARY:Corta el cable rojo
LOCATION:Arkabia
URL:https://arkabia.eus/?p=782
END:VEVENT
END:VCALENDAR
