BEGIN:VCALENDAR
VERSION:2.0
PRODID:-//Arkabia//ES
CALSCALE:GREGORIAN
METHOD:PUBLISH
BEGIN:VEVENT
UID:8dd12a9190a01fe952d0fa849c2ee360@arkabia.eus
DTSTAMP:20260424T225041
DTSTART;TZID=Europe/Madrid:20260331T193000
DTEND;TZID=Europe/Madrid:20260331T203000
SUMMARY:Proyecto Larrua &#038\; Dati Drouk. Barzakh
LOCATION:Arkabia
URL:https://arkabia.eus/eu/?p=573
END:VEVENT
END:VCALENDAR
