BEGIN:VCALENDAR
VERSION:2.0
PRODID:-//Arkabia//ES
CALSCALE:GREGORIAN
METHOD:PUBLISH
BEGIN:VEVENT
UID:d515ba70c4aa0135f28c3d371ca2b009@arkabia.eus
DTSTAMP:20260420T013526
DTSTART;VALUE=DATE:20260611
DTEND;VALUE=DATE:20261212
SUMMARY:BERDINTASUN ZIKLOA
LOCATION:Arkabia
URL:https://arkabia.eus/eu/?p=618
END:VEVENT
END:VCALENDAR
