BEGIN:VCALENDAR
VERSION:2.0
PRODID:-//Arkabia//ES
CALSCALE:GREGORIAN
METHOD:PUBLISH
BEGIN:VEVENT
UID:c733a0ba64061e05a3de849c00040715@arkabia.eus
DTSTAMP:20260425T004127
DTSTART;VALUE=DATE:20260413
DTEND;VALUE=DATE:20260417
SUMMARY:Langilearen Inguruko Zinema Astea
LOCATION:Arkabia
URL:https://arkabia.eus/eu/?p=641
END:VEVENT
END:VCALENDAR
