BEGIN:VCALENDAR
VERSION:2.0
PRODID:-//Arkabia//ES
CALSCALE:GREGORIAN
METHOD:PUBLISH
BEGIN:VEVENT
UID:c3b0c31f8675b89a5a0e3e8088cb3361@arkabia.eus
DTSTAMP:20260420T071629
DTSTART;TZID=Europe/Madrid:20260425T200000
DTEND;TZID=Europe/Madrid:20260425T210000
SUMMARY:Queralt Lahoz
LOCATION:Arkabia
URL:https://arkabia.eus/eu/?p=700
END:VEVENT
END:VCALENDAR
