BEGIN:VCALENDAR
VERSION:2.0
PRODID:-//Arkabia//ES
CALSCALE:GREGORIAN
METHOD:PUBLISH
BEGIN:VEVENT
UID:3382b10cb65295923b9be99320bc020c@arkabia.eus
DTSTAMP:20260424T210858
DTSTART;VALUE=DATE:20260608
DTEND;VALUE=DATE:20260613
SUMMARY:Musikal zikloa
LOCATION:Arkabia
URL:https://arkabia.eus/eu/?p=766
END:VEVENT
END:VCALENDAR
